BEGIN:VCALENDAR
VERSION:2.0
PRODID:-//Volunteering Barnet - ECPv5.2.1//NONSGML v1.0//EN
CALSCALE:GREGORIAN
METHOD:PUBLISH
X-WR-CALNAME:Volunteering Barnet
X-ORIGINAL-URL:https://volunteeringbarnet.org.uk
X-WR-CALDESC:Events for Volunteering Barnet
BEGIN:VTIMEZONE
TZID:UTC
BEGIN:STANDARD
TZOFFSETFROM:+0000
TZOFFSETTO:+0000
TZNAME:UTC
DTSTART:20190101T000000
END:STANDARD
END:VTIMEZONE
BEGIN:VEVENT
DTSTART;TZID=UTC:20190604T180000
DTEND;TZID=UTC:20190604T213000
DTSTAMP:20260421T080053
CREATED:20190301T122432Z
LAST-MODIFIED:20190301T122432Z
UID:1681-1559671200-1559683800@volunteeringbarnet.org.uk
SUMMARY:Jewish Community Trustees' Conference
DESCRIPTION:Lead and JVN invite you to the 6th annual Trustees’ Conference for the Jewish community. Given the current climate in the charity world we will explore issues around a crisis in confidence and getting your governance right.\n\nWorkshop topics include:\n\nReputation management in a crisis\nSafeguarding\nDecision Making\nGDPR\nFraud and Financial Controls\nFundraising Standards\nEssential duties of a trustee (target: new trustees)
URL:https://volunteeringbarnet.org.uk/event/jewish-community-trustees-conference/
LOCATION:TBC
CATEGORIES:Organisations
ORGANIZER;CN="Jewish%20Volunteering%20Network":MAILTO:info@jvn.org.uk
END:VEVENT
END:VCALENDAR